BEGIN:VCALENDAR
VERSION:2.0
PRODID:-//Knowledge and Education Leaders
CALSCALE:GREGORIAN
METHOD:PUBLISH
X-WR-CALNAME:Knowledge and Education Leaders
X-ORIGINAL-URL:https://keleaders.com/product/the-business-driven-hr-professional/
X-WR-CALDESC:The Business-Driven HR Professional
BEGIN:VEVENT
DTSTART;TZID=Europe/London:20260427T000000
DTEND;TZID=Europe/London:20260501T000000
SUMMARY:The Business-Driven HR Professional
DESCRIPTION:
URL:https://keleaders.com/product/the-business-driven-hr-professional/
LOCATION:
END:VEVENT
END:VCALENDAR
