BEGIN:VCALENDAR
VERSION:2.0
PRODID:-//Knowledge and Education Leaders
CALSCALE:GREGORIAN
METHOD:PUBLISH
X-WR-CALNAME:Knowledge and Education Leaders
X-ORIGINAL-URL:https://keleaders.com/product/the-complete-guide-to-feasibility-studies/
X-WR-CALDESC:The Complete Guide to Feasibility Studies
BEGIN:VEVENT
DTSTART;TZID=Europe/London:20260112T000000
DTEND;TZID=Europe/London:20260116T000000
SUMMARY:The Complete Guide to Feasibility Studies
DESCRIPTION:
URL:https://keleaders.com/product/the-complete-guide-to-feasibility-studies/
LOCATION:
END:VEVENT
END:VCALENDAR
