BEGIN:VCALENDAR
VERSION:2.0
PRODID:-//Knowledge and Education Leaders
CALSCALE:GREGORIAN
METHOD:PUBLISH
X-WR-CALNAME:Knowledge and Education Leaders
X-ORIGINAL-URL:https://keleaders.com/product/driving-success-with-people-and-innovation-in-leadership/
X-WR-CALDESC:Driving Success with People and Innovation in Leadership
BEGIN:VEVENT
DTSTART;TZID=Europe/London:20260907T000000
DTEND;TZID=Europe/London:20260918T000000
SUMMARY:Driving Success with People and Innovation in Leadership
DESCRIPTION:
URL:https://keleaders.com/product/driving-success-with-people-and-innovation-in-leadership/
LOCATION:
END:VEVENT
END:VCALENDAR
