BEGIN:VCALENDAR
VERSION:2.0
PRODID:-//Knowledge and Education Leaders
CALSCALE:GREGORIAN
METHOD:PUBLISH
X-WR-CALNAME:Knowledge and Education Leaders
X-ORIGINAL-URL:https://keleaders.com/product/ai-driven-human-resource-management-strategy/
X-WR-CALDESC:AI-Driven Human Resource Management: Strategy and Implementation
BEGIN:VEVENT
DTSTART;TZID=Europe/London:20260727T000000
DTEND;TZID=Europe/London:20260731T000000
SUMMARY:AI-Driven Human Resource Management: Strategy and Implementation
DESCRIPTION:
URL:https://keleaders.com/product/ai-driven-human-resource-management-strategy/
LOCATION:
END:VEVENT
END:VCALENDAR
