BEGIN:VCALENDAR
VERSION:2.0
PRODID:-//Knowledge and Education Leaders
CALSCALE:GREGORIAN
METHOD:PUBLISH
X-WR-CALNAME:Knowledge and Education Leaders
X-ORIGINAL-URL:https://keleaders.com/product/fidic-mastery-in-engineering-design-build-contracts-bootcamp/
X-WR-CALDESC:FIDIC Mastery in Engineering &#038; Design-Build Contracts Bootcamp
BEGIN:VEVENT
DTSTART;TZID=Europe/London:20260706T000000
DTEND;TZID=Europe/London:20260710T000000
SUMMARY:FIDIC Mastery in Engineering & Design-Build Contracts Bootcamp
DESCRIPTION:
URL:https://keleaders.com/product/fidic-mastery-in-engineering-design-build-contracts-bootcamp/
LOCATION:
END:VEVENT
END:VCALENDAR
