BEGIN:VCALENDAR
VERSION:2.0
PRODID:-//Knowledge and Education Leaders
CALSCALE:GREGORIAN
METHOD:PUBLISH
X-WR-CALNAME:Knowledge and Education Leaders
X-ORIGINAL-URL:https://keleaders.com/product/fidic-case-studies-in-disputes-arbitration/
X-WR-CALDESC:FIDIC Case Studies in Disputes &#038; Arbitration
BEGIN:VEVENT
DTSTART;TZID=Europe/London:20260615T000000
DTEND;TZID=Europe/London:20260625T000000
SUMMARY:FIDIC Case Studies in Disputes & Arbitration
DESCRIPTION:
URL:https://keleaders.com/product/fidic-case-studies-in-disputes-arbitration/
LOCATION:
END:VEVENT
END:VCALENDAR
