BEGIN:VCALENDAR
VERSION:2.0
PRODID:-//Knowledge and Education Leaders
CALSCALE:GREGORIAN
METHOD:PUBLISH
X-WR-CALNAME:Knowledge and Education Leaders
X-ORIGINAL-URL:https://keleaders.com/product/legal-interpretation-of-fidic-contract-clauses/
X-WR-CALDESC:Legal Interpretation of FIDIC Contract Clauses
BEGIN:VEVENT
DTSTART;TZID=Europe/London:20260706T000000
DTEND;TZID=Europe/London:20260716T000000
SUMMARY:Legal Interpretation of FIDIC Contract Clauses
DESCRIPTION:
URL:https://keleaders.com/product/legal-interpretation-of-fidic-contract-clauses/
LOCATION:
END:VEVENT
END:VCALENDAR
