BEGIN:VCALENDAR
VERSION:2.0
PRODID:-//Knowledge and Education Leaders
CALSCALE:GREGORIAN
METHOD:PUBLISH
X-WR-CALNAME:Knowledge and Education Leaders
X-ORIGINAL-URL:https://keleaders.com/product/cost-control-and-procurement-under-fidic-contracts/
X-WR-CALDESC:Cost Control and Procurement Under FIDIC Contracts
BEGIN:VEVENT
DTSTART;TZID=Europe/London:20260209T000000
DTEND;TZID=Europe/London:20260219T000000
SUMMARY:Cost Control and Procurement Under FIDIC Contracts
DESCRIPTION:
URL:https://keleaders.com/product/cost-control-and-procurement-under-fidic-contracts/
LOCATION:
END:VEVENT
END:VCALENDAR
