BEGIN:VCALENDAR
VERSION:2.0
PRODID:-//Knowledge and Education Leaders
CALSCALE:GREGORIAN
METHOD:PUBLISH
X-WR-CALNAME:Knowledge and Education Leaders
X-ORIGINAL-URL:https://keleaders.com/product/ai-and-data-analytics-in-insurance/
X-WR-CALDESC:AI and Data Analytics in Insurance
BEGIN:VEVENT
DTSTART;TZID=Europe/London:20260504T000000
DTEND;TZID=Europe/London:20260508T000000
SUMMARY:AI and Data Analytics in Insurance
DESCRIPTION:
URL:https://keleaders.com/product/ai-and-data-analytics-in-insurance/
LOCATION:
END:VEVENT
END:VCALENDAR
