BEGIN:VCALENDAR
VERSION:2.0
PRODID:-//Knowledge and Education Leaders
CALSCALE:GREGORIAN
METHOD:PUBLISH
X-WR-CALNAME:Knowledge and Education Leaders
X-ORIGINAL-URL:https://keleaders.com/product/fintech-policy-research-and-global-case-studies/
X-WR-CALDESC:Fintech Policy Research and Global Case Studies
BEGIN:VEVENT
DTSTART;TZID=Europe/London:20260413T000000
DTEND;TZID=Europe/London:20260417T000000
SUMMARY:Fintech Policy Research and Global Case Studies
DESCRIPTION:
URL:https://keleaders.com/product/fintech-policy-research-and-global-case-studies/
LOCATION:
END:VEVENT
END:VCALENDAR
