BEGIN:VCALENDAR
VERSION:2.0
PRODID:-//Knowledge and Education Leaders
CALSCALE:GREGORIAN
METHOD:PUBLISH
X-WR-CALNAME:Knowledge and Education Leaders
X-ORIGINAL-URL:https://keleaders.com/product/ethical-and-legal-challenges-in-fintech/
X-WR-CALDESC:Ethical and Legal Challenges in FinTech
BEGIN:VEVENT
DTSTART;TZID=Europe/London:20260202T000000
DTEND;TZID=Europe/London:20260206T000000
SUMMARY:Ethical and Legal Challenges in FinTech
DESCRIPTION:
URL:https://keleaders.com/product/ethical-and-legal-challenges-in-fintech/
LOCATION:
END:VEVENT
END:VCALENDAR
