BEGIN:VCALENDAR
VERSION:2.0
PRODID:-//Knowledge and Education Leaders
CALSCALE:GREGORIAN
METHOD:PUBLISH
X-WR-CALNAME:Knowledge and Education Leaders
X-ORIGINAL-URL:https://keleaders.com/product/ai-powered-fraud-detection-and-prevention/
X-WR-CALDESC:AI-Powered Fraud Detection and Prevention
BEGIN:VEVENT
DTSTART;TZID=Europe/London:20260525T000000
DTEND;TZID=Europe/London:20260529T000000
SUMMARY:AI-Powered Fraud Detection and Prevention
DESCRIPTION:
URL:https://keleaders.com/product/ai-powered-fraud-detection-and-prevention/
LOCATION:
END:VEVENT
END:VCALENDAR
