BEGIN:VCALENDAR
VERSION:2.0
PRODID:-//Knowledge and Education Leaders
CALSCALE:GREGORIAN
METHOD:PUBLISH
X-WR-CALNAME:Knowledge and Education Leaders
X-ORIGINAL-URL:https://keleaders.com/product/quantitative-research-and-data-analysis/
X-WR-CALDESC:Quantitative Research and Data Analysis
BEGIN:VEVENT
DTSTART;TZID=Europe/London:20260202T000000
DTEND;TZID=Europe/London:20260206T000000
SUMMARY:Quantitative Research and Data Analysis
DESCRIPTION:
URL:https://keleaders.com/product/quantitative-research-and-data-analysis/
LOCATION:
END:VEVENT
END:VCALENDAR
