BEGIN:VCALENDAR
VERSION:2.0
PRODID:-//Knowledge and Education Leaders
CALSCALE:GREGORIAN
METHOD:PUBLISH
X-WR-CALNAME:Knowledge and Education Leaders
X-ORIGINAL-URL:https://keleaders.com/product/master-public-speaking-and-confidence/
X-WR-CALDESC:Master Public Speaking and Confidence
BEGIN:VEVENT
DTSTART;TZID=Europe/London:20260914T000000
DTEND;TZID=Europe/London:20260918T000000
SUMMARY:Master Public Speaking and Confidence
DESCRIPTION:
URL:https://keleaders.com/product/master-public-speaking-and-confidence/
LOCATION:
END:VEVENT
END:VCALENDAR
