BEGIN:VCALENDAR
VERSION:2.0
PRODID:-//Knowledge and Education Leaders
CALSCALE:GREGORIAN
METHOD:PUBLISH
X-WR-CALNAME:Knowledge and Education Leaders
X-ORIGINAL-URL:https://keleaders.com/product/digital-marketing-mastery/
X-WR-CALDESC:Digital Marketing Mastery
BEGIN:VEVENT
DTSTART;TZID=Europe/London:20260706T000000
DTEND;TZID=Europe/London:20260710T000000
SUMMARY:Digital Marketing Mastery
DESCRIPTION:
URL:https://keleaders.com/product/digital-marketing-mastery/
LOCATION:
END:VEVENT
END:VCALENDAR
