BEGIN:VCALENDAR
VERSION:2.0
PRODID:-//Knowledge and Education Leaders
CALSCALE:GREGORIAN
METHOD:PUBLISH
X-WR-CALNAME:Knowledge and Education Leaders
X-ORIGINAL-URL:https://keleaders.com/product/build-responsive-websites-with-html-css-and-javascript/
X-WR-CALDESC:Build Responsive Websites with HTML, CSS, and JavaScript
BEGIN:VEVENT
DTSTART;TZID=Europe/London:20260413T000000
DTEND;TZID=Europe/London:20260417T000000
SUMMARY:Build Responsive Websites with HTML, CSS, and JavaScript
DESCRIPTION:
URL:https://keleaders.com/product/build-responsive-websites-with-html-css-and-javascript/
LOCATION:
END:VEVENT
END:VCALENDAR
