BEGIN:VCALENDAR
VERSION:2.0
PRODID:-//Knowledge and Education Leaders
CALSCALE:GREGORIAN
METHOD:PUBLISH
X-WR-CALNAME:Knowledge and Education Leaders
X-ORIGINAL-URL:https://keleaders.com/product/sales-leadership-and-high-performance-deal-making/
X-WR-CALDESC:Sales Leadership and High-Performance Deal Making
BEGIN:VEVENT
DTSTART;TZID=Europe/London:20260202T000000
DTEND;TZID=Europe/London:20260206T000000
SUMMARY:Sales Leadership and High-Performance Deal Making
DESCRIPTION:
URL:https://keleaders.com/product/sales-leadership-and-high-performance-deal-making/
LOCATION:
END:VEVENT
END:VCALENDAR
