BEGIN:VCALENDAR
VERSION:2.0
PRODID:-//Knowledge and Education Leaders
CALSCALE:GREGORIAN
METHOD:PUBLISH
X-WR-CALNAME:Knowledge and Education Leaders
X-ORIGINAL-URL:https://keleaders.com/product/behavioural-economics-for-managers-and-marketers/
X-WR-CALDESC:Behavioural Economics for Managers and Marketers
BEGIN:VEVENT
DTSTART;TZID=Europe/London:20260323T000000
DTEND;TZID=Europe/London:20260327T000000
SUMMARY:Behavioural Economics for Managers and Marketers
DESCRIPTION:
URL:https://keleaders.com/product/behavioural-economics-for-managers-and-marketers/
LOCATION:
END:VEVENT
END:VCALENDAR
