BEGIN:VCALENDAR
VERSION:2.0
PRODID:-//Knowledge and Education Leaders
CALSCALE:GREGORIAN
METHOD:PUBLISH
X-WR-CALNAME:Knowledge and Education Leaders
X-ORIGINAL-URL:https://keleaders.com/product/digital-health-and-healthcare-innovation/
X-WR-CALDESC:Digital Health and Healthcare Innovation
BEGIN:VEVENT
DTSTART;TZID=Europe/London:20260216T000000
DTEND;TZID=Europe/London:20260220T000000
SUMMARY:Digital Health and Healthcare Innovation
DESCRIPTION:
URL:https://keleaders.com/product/digital-health-and-healthcare-innovation/
LOCATION:
END:VEVENT
END:VCALENDAR
