BEGIN:VCALENDAR
VERSION:2.0
PRODID:-//Knowledge and Education Leaders
CALSCALE:GREGORIAN
METHOD:PUBLISH
X-WR-CALNAME:Knowledge and Education Leaders
X-ORIGINAL-URL:https://keleaders.com/product/ai-powered-marketing-and-personalization/
X-WR-CALDESC:AI-Powered Marketing and Personalization
BEGIN:VEVENT
DTSTART;TZID=Europe/London:20261214T000000
DTEND;TZID=Europe/London:20261218T000000
SUMMARY:AI-Powered Marketing and Personalization
DESCRIPTION:
URL:https://keleaders.com/product/ai-powered-marketing-and-personalization/
LOCATION:
END:VEVENT
END:VCALENDAR
