BEGIN:VCALENDAR
VERSION:2.0
PRODID:-//Knowledge and Education Leaders
CALSCALE:GREGORIAN
METHOD:PUBLISH
X-WR-CALNAME:Knowledge and Education Leaders
X-ORIGINAL-URL:https://keleaders.com/product/regulatory-technology-regtech-and-compliance-automation/
X-WR-CALDESC:Regulatory Technology (RegTech) and Compliance Automation
BEGIN:VEVENT
DTSTART;TZID=Europe/London:20260427T000000
DTEND;TZID=Europe/London:20260501T000000
SUMMARY:Regulatory Technology (RegTech) and Compliance Automation
DESCRIPTION:
URL:https://keleaders.com/product/regulatory-technology-regtech-and-compliance-automation/
LOCATION:
END:VEVENT
END:VCALENDAR
