BEGIN:VCALENDAR
VERSION:2.0
PRODID:-//Knowledge and Education Leaders
CALSCALE:GREGORIAN
METHOD:PUBLISH
X-WR-CALNAME:Knowledge and Education Leaders
X-ORIGINAL-URL:https://keleaders.com/product/ai-driven-customer-intelligence-and-experience-analytics/
X-WR-CALDESC:AI-Driven Customer Intelligence and Experience Analytics
BEGIN:VEVENT
DTSTART;TZID=Europe/London:20260216T000000
DTEND;TZID=Europe/London:20260220T000000
SUMMARY:AI-Driven Customer Intelligence and Experience Analytics
DESCRIPTION:
URL:https://keleaders.com/product/ai-driven-customer-intelligence-and-experience-analytics/
LOCATION:
END:VEVENT
END:VCALENDAR
