BEGIN:VCALENDAR
VERSION:2.0
PRODID:-//Knowledge and Education Leaders
CALSCALE:GREGORIAN
METHOD:PUBLISH
X-WR-CALNAME:Knowledge and Education Leaders
X-ORIGINAL-URL:https://keleaders.com/product/organizational-culture-agility-and-employee-experience/
X-WR-CALDESC:Organizational Culture, Agility and Employee Experience
BEGIN:VEVENT
DTSTART;TZID=Europe/London:20260330T000000
DTEND;TZID=Europe/London:20260403T000000
SUMMARY:Organizational Culture, Agility and Employee Experience
DESCRIPTION:
URL:https://keleaders.com/product/organizational-culture-agility-and-employee-experience/
LOCATION:
END:VEVENT
END:VCALENDAR
