BEGIN:VCALENDAR
VERSION:2.0
PRODID:-//Knowledge and Education Leaders
CALSCALE:GREGORIAN
METHOD:PUBLISH
X-WR-CALNAME:Knowledge and Education Leaders
X-ORIGINAL-URL:https://keleaders.com/product/talent-acquisition-retention-and-engagement-strategy/
X-WR-CALDESC:Talent Acquisition, Retention and Engagement Strategy
BEGIN:VEVENT
DTSTART;TZID=Europe/London:20261019T000000
DTEND;TZID=Europe/London:20261023T000000
SUMMARY:Talent Acquisition, Retention and Engagement Strategy
DESCRIPTION:
URL:https://keleaders.com/product/talent-acquisition-retention-and-engagement-strategy/
LOCATION:
END:VEVENT
END:VCALENDAR
