BEGIN:VCALENDAR
VERSION:2.0
PRODID:-//Knowledge and Education Leaders
CALSCALE:GREGORIAN
METHOD:PUBLISH
X-WR-CALNAME:Knowledge and Education Leaders
X-ORIGINAL-URL:https://keleaders.com/product/public-procurement-and-tendering-compliance-excellence/
X-WR-CALDESC:Public Procurement and Tendering Compliance Excellence
BEGIN:VEVENT
DTSTART;TZID=Europe/London:20260518T000000
DTEND;TZID=Europe/London:20260522T000000
SUMMARY:Public Procurement and Tendering Compliance Excellence
DESCRIPTION:
URL:https://keleaders.com/product/public-procurement-and-tendering-compliance-excellence/
LOCATION:
END:VEVENT
END:VCALENDAR
