BEGIN:VCALENDAR
VERSION:2.0
PRODID:-//Knowledge and Education Leaders
CALSCALE:GREGORIAN
METHOD:PUBLISH
X-WR-CALNAME:Knowledge and Education Leaders
X-ORIGINAL-URL:https://keleaders.com/product/procurement-governance-ethics-and-compliance-framework/
X-WR-CALDESC:Procurement Governance, Ethics and Compliance Framework
BEGIN:VEVENT
DTSTART;TZID=Europe/London:20260406T000000
DTEND;TZID=Europe/London:20260410T000000
SUMMARY:Procurement Governance, Ethics and Compliance Framework
DESCRIPTION:
URL:https://keleaders.com/product/procurement-governance-ethics-and-compliance-framework/
LOCATION:
END:VEVENT
END:VCALENDAR
