BEGIN:VCALENDAR
VERSION:2.0
PRODID:-//Knowledge and Education Leaders
CALSCALE:GREGORIAN
METHOD:PUBLISH
X-WR-CALNAME:Knowledge and Education Leaders
X-ORIGINAL-URL:https://keleaders.com/product/strategic-supplier-relationship-management-excellence/
X-WR-CALDESC:Strategic Supplier Relationship Management Excellence
BEGIN:VEVENT
DTSTART;TZID=Europe/London:20260907T000000
DTEND;TZID=Europe/London:20260911T000000
SUMMARY:Strategic Supplier Relationship Management Excellence
DESCRIPTION:
URL:https://keleaders.com/product/strategic-supplier-relationship-management-excellence/
LOCATION:
END:VEVENT
END:VCALENDAR
