BEGIN:VCALENDAR
VERSION:2.0
PRODID:-//Knowledge and Education Leaders
CALSCALE:GREGORIAN
METHOD:PUBLISH
X-WR-CALNAME:Knowledge and Education Leaders
X-ORIGINAL-URL:https://keleaders.com/product/strategic-talent-management-in-the-oil-and-gas-industry-2/
X-WR-CALDESC:Strategic Talent Management in the Oil and Gas Industry
BEGIN:VEVENT
DTSTART;TZID=Europe/London:20260601T000000
DTEND;TZID=Europe/London:20260605T000000
SUMMARY:Strategic Talent Management in the Oil and Gas Industry
DESCRIPTION:
URL:https://keleaders.com/product/strategic-talent-management-in-the-oil-and-gas-industry-2/
LOCATION:
END:VEVENT
END:VCALENDAR
