BEGIN:VCALENDAR
VERSION:2.0
PRODID:-//Knowledge and Education Leaders
CALSCALE:GREGORIAN
METHOD:PUBLISH
X-WR-CALNAME:Knowledge and Education Leaders
X-ORIGINAL-URL:https://keleaders.com/product/advanced-management-essentials-for-executive-personal-assistants/
X-WR-CALDESC:Advanced Management Essentials for Executive Personal Assistants
BEGIN:VEVENT
DTSTART;TZID=Europe/London:20260309T000000
DTEND;TZID=Europe/London:20260313T000000
SUMMARY:Advanced Management Essentials for Executive Personal Assistants
DESCRIPTION:
URL:https://keleaders.com/product/advanced-management-essentials-for-executive-personal-assistants/
LOCATION:
END:VEVENT
END:VCALENDAR
