BEGIN:VCALENDAR
VERSION:2.0
PRODID:-//Knowledge and Education Leaders
CALSCALE:GREGORIAN
METHOD:PUBLISH
X-WR-CALNAME:Knowledge and Education Leaders
X-ORIGINAL-URL:https://keleaders.com/product/social-activities-and-events-management/
X-WR-CALDESC:Social Activities and Events Management
BEGIN:VEVENT
DTSTART;TZID=Europe/London:20260803T000000
DTEND;TZID=Europe/London:20260807T000000
SUMMARY:Social Activities and Events Management
DESCRIPTION:
URL:https://keleaders.com/product/social-activities-and-events-management/
LOCATION:
END:VEVENT
END:VCALENDAR
