BEGIN:VCALENDAR
VERSION:2.0
PRODID:-//Knowledge and Education Leaders
CALSCALE:GREGORIAN
METHOD:PUBLISH
X-WR-CALNAME:Knowledge and Education Leaders
X-ORIGINAL-URL:https://keleaders.com/product/purchasing-management-specialist/
X-WR-CALDESC:Purchasing Management Specialist
BEGIN:VEVENT
DTSTART;TZID=Europe/London:20260720T000000
DTEND;TZID=Europe/London:20260724T000000
SUMMARY:Purchasing Management Specialist
DESCRIPTION:
URL:https://keleaders.com/product/purchasing-management-specialist/
LOCATION:
END:VEVENT
END:VCALENDAR
