BEGIN:VCALENDAR
VERSION:2.0
PRODID:-//Knowledge and Education Leaders
CALSCALE:GREGORIAN
METHOD:PUBLISH
X-WR-CALNAME:Knowledge and Education Leaders
X-ORIGINAL-URL:https://keleaders.com/product/supply-chain-best-practices/
X-WR-CALDESC:Supply Chain Best Practices
BEGIN:VEVENT
DTSTART;TZID=Europe/London:20260615T000000
DTEND;TZID=Europe/London:20260619T000000
SUMMARY:Supply Chain Best Practices
DESCRIPTION:
URL:https://keleaders.com/product/supply-chain-best-practices/
LOCATION:
END:VEVENT
END:VCALENDAR
