BEGIN:VCALENDAR
VERSION:2.0
PRODID:-//Knowledge and Education Leaders
CALSCALE:GREGORIAN
METHOD:PUBLISH
X-WR-CALNAME:Knowledge and Education Leaders
X-ORIGINAL-URL:https://keleaders.com/product/purchasing-techniques-negotiation-and-cost-reduction-strategies/
X-WR-CALDESC:Purchasing Techniques, Negotiation, and Cost Reduction Strategies
BEGIN:VEVENT
DTSTART;TZID=Europe/London:20260119T000000
DTEND;TZID=Europe/London:20260123T000000
SUMMARY:Purchasing Techniques, Negotiation, and Cost Reduction Strategies
DESCRIPTION:
URL:https://keleaders.com/product/purchasing-techniques-negotiation-and-cost-reduction-strategies/
LOCATION:
END:VEVENT
END:VCALENDAR
