BEGIN:VCALENDAR
VERSION:2.0
PRODID:-//Knowledge and Education Leaders
CALSCALE:GREGORIAN
METHOD:PUBLISH
X-WR-CALNAME:Knowledge and Education Leaders
X-ORIGINAL-URL:https://keleaders.com/product/service-level-agreements-slas/
X-WR-CALDESC:Service Level Agreements (SLAs)
BEGIN:VEVENT
DTSTART;TZID=Europe/London:20260126T000000
DTEND;TZID=Europe/London:20260130T000000
SUMMARY:Service Level Agreements (SLAs)
DESCRIPTION:
URL:https://keleaders.com/product/service-level-agreements-slas/
LOCATION:
END:VEVENT
END:VCALENDAR
