BEGIN:VCALENDAR
VERSION:2.0
PRODID:-//Knowledge and Education Leaders
CALSCALE:GREGORIAN
METHOD:PUBLISH
X-WR-CALNAME:Knowledge and Education Leaders
X-ORIGINAL-URL:https://keleaders.com/product/project-management-essentials/
X-WR-CALDESC:Project Management Essentials
BEGIN:VEVENT
DTSTART;TZID=Europe/London:20260302T000000
DTEND;TZID=Europe/London:20260302T000000
SUMMARY:Project Management Essentials
DESCRIPTION:
URL:https://keleaders.com/product/project-management-essentials/
LOCATION:
END:VEVENT
END:VCALENDAR
