BEGIN:VCALENDAR
VERSION:2.0
PRODID:-//Knowledge and Education Leaders
CALSCALE:GREGORIAN
METHOD:PUBLISH
X-WR-CALNAME:Knowledge and Education Leaders
X-ORIGINAL-URL:https://keleaders.com/product/strategic-procurement-excellence/
X-WR-CALDESC:Strategic Procurement Excellence
BEGIN:VEVENT
DTSTART;TZID=Europe/London:20261214T000000
DTEND;TZID=Europe/London:20261218T000000
SUMMARY:Strategic Procurement Excellence
DESCRIPTION:
URL:https://keleaders.com/product/strategic-procurement-excellence/
LOCATION:
END:VEVENT
END:VCALENDAR
