BEGIN:VCALENDAR
VERSION:2.0
PRODID:-//Knowledge and Education Leaders
CALSCALE:GREGORIAN
METHOD:PUBLISH
X-WR-CALNAME:Knowledge and Education Leaders
X-ORIGINAL-URL:https://keleaders.com/product/legal-consultation-training/
X-WR-CALDESC:Legal Consultation Training
BEGIN:VEVENT
DTSTART;TZID=Europe/London:20260323T000000
DTEND;TZID=Europe/London:20260327T000000
SUMMARY:Legal Consultation Training
DESCRIPTION:
URL:https://keleaders.com/product/legal-consultation-training/
LOCATION:
END:VEVENT
END:VCALENDAR
