BEGIN:VCALENDAR
VERSION:2.0
PRODID:-//Knowledge and Education Leaders
CALSCALE:GREGORIAN
METHOD:PUBLISH
X-WR-CALNAME:Knowledge and Education Leaders
X-ORIGINAL-URL:https://keleaders.com/product/hrci-global-professional-in-human-resources-gphr-preparation-program/
X-WR-CALDESC:HRCI Global Professional in Human Resources (GPHR) Preparation Program
BEGIN:VEVENT
DTSTART;TZID=Europe/London:20261116T000000
DTEND;TZID=Europe/London:20261120T000000
SUMMARY:HRCI Global Professional in Human Resources (GPHR) Preparation Program
DESCRIPTION:
URL:https://keleaders.com/product/hrci-global-professional-in-human-resources-gphr-preparation-program/
LOCATION:
END:VEVENT
END:VCALENDAR
