BEGIN:VCALENDAR
VERSION:2.0
PRODID:-//Knowledge and Education Leaders
CALSCALE:GREGORIAN
METHOD:PUBLISH
X-WR-CALNAME:Knowledge and Education Leaders
X-ORIGINAL-URL:https://keleaders.com/product/leading-strategic-hr-transformation-2/
X-WR-CALDESC:Leading Strategic HR Transformation
BEGIN:VEVENT
DTSTART;TZID=Europe/London:20260615T000000
DTEND;TZID=Europe/London:20260619T000000
SUMMARY:Leading Strategic HR Transformation
DESCRIPTION:
URL:https://keleaders.com/product/leading-strategic-hr-transformation-2/
LOCATION:
END:VEVENT
END:VCALENDAR
