BEGIN:VCALENDAR
VERSION:2.0
PRODID:-//Knowledge and Education Leaders
CALSCALE:GREGORIAN
METHOD:PUBLISH
X-WR-CALNAME:Knowledge and Education Leaders
X-ORIGINAL-URL:https://keleaders.com/product/internal-audit-for-hr-and-fundamentals-of-hr-auditing/
X-WR-CALDESC:Internal Audit for HR and Fundamentals of HR Auditing
BEGIN:VEVENT
DTSTART;TZID=Europe/London:20261005T000000
DTEND;TZID=Europe/London:20261009T000000
SUMMARY:Internal Audit for HR and Fundamentals of HR Auditing
DESCRIPTION:
URL:https://keleaders.com/product/internal-audit-for-hr-and-fundamentals-of-hr-auditing/
LOCATION:
END:VEVENT
END:VCALENDAR
