BEGIN:VCALENDAR
VERSION:2.0
PRODID:-//Knowledge and Education Leaders
CALSCALE:GREGORIAN
METHOD:PUBLISH
X-WR-CALNAME:Knowledge and Education Leaders
X-ORIGINAL-URL:https://keleaders.com/product/writing-policies-and-procedures/
X-WR-CALDESC:Writing Policies and Procedures
BEGIN:VEVENT
DTSTART;TZID=Europe/London:20260622T000000
DTEND;TZID=Europe/London:20260626T000000
SUMMARY:Writing Policies and Procedures
DESCRIPTION:
URL:https://keleaders.com/product/writing-policies-and-procedures/
LOCATION:
END:VEVENT
END:VCALENDAR
