BEGIN:VCALENDAR
VERSION:2.0
PRODID:-//Knowledge and Education Leaders
CALSCALE:GREGORIAN
METHOD:PUBLISH
X-WR-CALNAME:Knowledge and Education Leaders
X-ORIGINAL-URL:https://keleaders.com/product/improving-productivity-through-quality-enhancement-and-cost-reduction/
X-WR-CALDESC:Improving Productivity through Quality Enhancement and Cost Reduction
BEGIN:VEVENT
DTSTART;TZID=Europe/London:20261207T000000
DTEND;TZID=Europe/London:20261211T000000
SUMMARY:Improving Productivity through Quality Enhancement and Cost Reduction
DESCRIPTION:
URL:https://keleaders.com/product/improving-productivity-through-quality-enhancement-and-cost-reduction/
LOCATION:
END:VEVENT
END:VCALENDAR
