BEGIN:VCALENDAR
VERSION:2.0
PRODID:-//Knowledge and Education Leaders
CALSCALE:GREGORIAN
METHOD:PUBLISH
X-WR-CALNAME:Knowledge and Education Leaders
X-ORIGINAL-URL:https://keleaders.com/product/hospitality-and-tourism-preparation-course-for-certified-hospitality-and-tourism-management-professional-chtmp/
X-WR-CALDESC:Hospitality and Tourism – Preparation Course for Certified Hospitality and Tourism Management Professional (CHTMP)
BEGIN:VEVENT
DTSTART;TZID=Europe/London:20260615T000000
DTEND;TZID=Europe/London:20260619T000000
SUMMARY:Hospitality and Tourism – Preparation Course for Certified Hospitality and Tourism Management Professional (CHTMP)
DESCRIPTION:
URL:https://keleaders.com/product/hospitality-and-tourism-preparation-course-for-certified-hospitality-and-tourism-management-professional-chtmp/
LOCATION:
END:VEVENT
END:VCALENDAR
