BEGIN:VCALENDAR
VERSION:2.0
PRODID:-//Knowledge and Education Leaders
CALSCALE:GREGORIAN
METHOD:PUBLISH
X-WR-CALNAME:Knowledge and Education Leaders
X-ORIGINAL-URL:https://keleaders.com/product/preparation-for-risk-management/
X-WR-CALDESC:Preparation for Risk Management
BEGIN:VEVENT
DTSTART;TZID=Europe/London:20260720T000000
DTEND;TZID=Europe/London:20260724T000000
SUMMARY:Preparation for Risk Management
DESCRIPTION:
URL:https://keleaders.com/product/preparation-for-risk-management/
LOCATION:
END:VEVENT
END:VCALENDAR
