BEGIN:VCALENDAR
VERSION:2.0
PRODID:-//Knowledge and Education Leaders
CALSCALE:GREGORIAN
METHOD:PUBLISH
X-WR-CALNAME:Knowledge and Education Leaders
X-ORIGINAL-URL:https://keleaders.com/product/strategic-procurement-master-program-spm/
X-WR-CALDESC:Strategic Procurement Master Program (SPM)
BEGIN:VEVENT
DTSTART;TZID=Europe/London:20260921T000000
DTEND;TZID=Europe/London:20260925T000000
SUMMARY:Strategic Procurement Master Program (SPM)
DESCRIPTION:
URL:https://keleaders.com/product/strategic-procurement-master-program-spm/
LOCATION:
END:VEVENT
END:VCALENDAR
