BEGIN:VCALENDAR
VERSION:2.0
PRODID:-//Knowledge and Education Leaders
CALSCALE:GREGORIAN
METHOD:PUBLISH
X-WR-CALNAME:Knowledge and Education Leaders
X-ORIGINAL-URL:https://keleaders.com/product/the-future-of-procurement/
X-WR-CALDESC:The Future of Procurement
BEGIN:VEVENT
DTSTART;TZID=Europe/London:20260720T000000
DTEND;TZID=Europe/London:20260724T000000
SUMMARY:The Future of Procurement
DESCRIPTION:
URL:https://keleaders.com/product/the-future-of-procurement/
LOCATION:
END:VEVENT
END:VCALENDAR
