BEGIN:VCALENDAR
VERSION:2.0
PRODID:-//Knowledge and Education Leaders
CALSCALE:GREGORIAN
METHOD:PUBLISH
X-WR-CALNAME:Knowledge and Education Leaders
X-ORIGINAL-URL:https://keleaders.com/product/stakeholder-collaboration-requirements-gathering-in-agile-sourcing/
X-WR-CALDESC:Stakeholder Collaboration &#038; Requirements Gathering in Agile Sourcing
BEGIN:VEVENT
DTSTART;TZID=Europe/London:20260713T000000
DTEND;TZID=Europe/London:20260717T000000
SUMMARY:Stakeholder Collaboration & Requirements Gathering in Agile Sourcing
DESCRIPTION:
URL:https://keleaders.com/product/stakeholder-collaboration-requirements-gathering-in-agile-sourcing/
LOCATION:
END:VEVENT
END:VCALENDAR
