BEGIN:VCALENDAR
VERSION:2.0
PRODID:-//Knowledge and Education Leaders
CALSCALE:GREGORIAN
METHOD:PUBLISH
X-WR-CALNAME:Knowledge and Education Leaders
X-ORIGINAL-URL:https://keleaders.com/product/advanced-legal-writing-and-drafting/
X-WR-CALDESC:Advanced Legal Writing and Drafting
BEGIN:VEVENT
DTSTART;TZID=Europe/London:20260608T000000
DTEND;TZID=Europe/London:20260613T000000
SUMMARY:Advanced Legal Writing and Drafting
DESCRIPTION:
URL:https://keleaders.com/product/advanced-legal-writing-and-drafting/
LOCATION:
END:VEVENT
END:VCALENDAR
