BEGIN:VCALENDAR
VERSION:2.0
PRODID:-//Knowledge and Education Leaders
CALSCALE:GREGORIAN
METHOD:PUBLISH
X-WR-CALNAME:Knowledge and Education Leaders
X-ORIGINAL-URL:https://keleaders.com/product/professional-certification-in-fidic-pink-book-contract-management-pcf-pbcm/
X-WR-CALDESC:Professional Certification in FIDIC Pink Book Contract Management (PCF-PBCM)
BEGIN:VEVENT
DTSTART;TZID=Europe/London:20260316T000000
DTEND;TZID=Europe/London:20260320T000000
SUMMARY:Professional Certification in FIDIC Pink Book Contract Management (PCF-PBCM)
DESCRIPTION:
URL:https://keleaders.com/product/professional-certification-in-fidic-pink-book-contract-management-pcf-pbcm/
LOCATION:
END:VEVENT
END:VCALENDAR
