BEGIN:VCALENDAR
VERSION:2.0
PRODID:-//Knowledge and Education Leaders
CALSCALE:GREGORIAN
METHOD:PUBLISH
X-WR-CALNAME:Knowledge and Education Leaders
X-ORIGINAL-URL:https://keleaders.com/product/professional-certification-in-fidic-silver-book-contract-management-pcf-sbcm-a-complete-guide/
X-WR-CALDESC:Professional Certification in FIDIC Silver Book Contract Management (PCF-SBCM): A Complete Guide
BEGIN:VEVENT
DTSTART;TZID=Europe/London:20260216T000000
DTEND;TZID=Europe/London:20260220T000000
SUMMARY:Professional Certification in FIDIC Silver Book Contract Management (PCF-SBCM): A Complete Guide
DESCRIPTION:
URL:https://keleaders.com/product/professional-certification-in-fidic-silver-book-contract-management-pcf-sbcm-a-complete-guide/
LOCATION:
END:VEVENT
END:VCALENDAR
